BEGIN:VCALENDAR
VERSION:2.0
PRODID:-//Tennisclub SV Stadtwerke München e.V. - ECPv6.2.9//NONSGML v1.0//EN
CALSCALE:GREGORIAN
METHOD:PUBLISH
X-WR-CALNAME:Tennisclub SV Stadtwerke München e.V.
X-ORIGINAL-URL:https://tennis.svstadtwerkemuenchen.de
X-WR-CALDESC:Veranstaltungen für Tennisclub SV Stadtwerke München e.V.
REFRESH-INTERVAL;VALUE=DURATION:PT1H
X-Robots-Tag:noindex
X-PUBLISHED-TTL:PT1H
BEGIN:VTIMEZONE
TZID:Europe/Berlin
BEGIN:DAYLIGHT
TZOFFSETFROM:+0100
TZOFFSETTO:+0200
TZNAME:CEST
DTSTART:20240331T010000
END:DAYLIGHT
BEGIN:STANDARD
TZOFFSETFROM:+0200
TZOFFSETTO:+0100
TZNAME:CET
DTSTART:20241027T010000
END:STANDARD
END:VTIMEZONE
BEGIN:VEVENT
DTSTART;VALUE=DATE:20240914
DTEND;VALUE=DATE:20240916
DTSTAMP:20260424T213133
CREATED:20240814T112308Z
LAST-MODIFIED:20240815T185314Z
UID:6468-1726272000-1726444799@tennis.svstadtwerkemuenchen.de
SUMMARY:Vereinsmeisterschaft Erwachsene
DESCRIPTION:Anmeldung über: https://tennis.svstadtwerkemuenchen.de/anmeldung-vereinsmeisterschaft/ \nAnmeldeschluss: 08.09.2024
URL:https://tennis.svstadtwerkemuenchen.de/event/vereinsmeisterschaft-erwachsene/
CATEGORIES:Turnier
END:VEVENT
END:VCALENDAR