BEGIN:VCALENDAR
VERSION:2.0
PRODID:-//Tennisclub SV Stadtwerke München e.V. - ECPv6.2.9//NONSGML v1.0//EN
CALSCALE:GREGORIAN
METHOD:PUBLISH
X-ORIGINAL-URL:https://tennis.svstadtwerkemuenchen.de
X-WR-CALDESC:Veranstaltungen für Tennisclub SV Stadtwerke München e.V.
REFRESH-INTERVAL;VALUE=DURATION:PT1H
X-Robots-Tag:noindex
X-PUBLISHED-TTL:PT1H
BEGIN:VTIMEZONE
TZID:Europe/Berlin
BEGIN:DAYLIGHT
TZOFFSETFROM:+0100
TZOFFSETTO:+0200
TZNAME:CEST
DTSTART:20240331T010000
END:DAYLIGHT
BEGIN:STANDARD
TZOFFSETFROM:+0200
TZOFFSETTO:+0100
TZNAME:CET
DTSTART:20241027T010000
END:STANDARD
END:VTIMEZONE
BEGIN:VEVENT
DTSTART;VALUE=DATE:20240922
DTEND;VALUE=DATE:20240923
DTSTAMP:20260424T213418
CREATED:20240316T222535Z
LAST-MODIFIED:20240815T190725Z
UID:5887-1726963200-1727049599@tennis.svstadtwerkemuenchen.de
SUMMARY:LK-Cup 24 (H+D)
DESCRIPTION:4. Stadtwerke LK-Cup 24 für folgende Konkurrenzen: Damen\, Herren\, Damen 40\, Herren 40. \nBeginn: 09:00 Uhr. \nTurnierseite & Anmeldung (mybigpoint) \nAnmeldeschluss: 17.09.2024\, 11:00 Uhr. Meldegebühr: 38€ exkl. DTB-Teilnehmerentgelt. \nMaximale Teilnehmerzahl: 36 \n 
URL:https://tennis.svstadtwerkemuenchen.de/event/lk-turnier-herren-und-damen/
LOCATION:Vereinshaus\, Neuherbergstr. 81\, München\, 80937\, Deutschland
CATEGORIES:Turnier
END:VEVENT
END:VCALENDAR