BEGIN:VCALENDAR
VERSION:2.0
PRODID:-//Tennisclub SV Stadtwerke München e.V. - ECPv6.2.9//NONSGML v1.0//EN
CALSCALE:GREGORIAN
METHOD:PUBLISH
X-ORIGINAL-URL:https://tennis.svstadtwerkemuenchen.de
X-WR-CALDESC:Veranstaltungen für Tennisclub SV Stadtwerke München e.V.
REFRESH-INTERVAL;VALUE=DURATION:PT1H
X-Robots-Tag:noindex
X-PUBLISHED-TTL:PT1H
BEGIN:VTIMEZONE
TZID:Europe/Berlin
BEGIN:DAYLIGHT
TZOFFSETFROM:+0100
TZOFFSETTO:+0200
TZNAME:CEST
DTSTART:20250330T010000
END:DAYLIGHT
BEGIN:STANDARD
TZOFFSETFROM:+0200
TZOFFSETTO:+0100
TZNAME:CET
DTSTART:20251026T010000
END:STANDARD
END:VTIMEZONE
BEGIN:VEVENT
DTSTART;TZID=Europe/Berlin:20251025T100000
DTEND;TZID=Europe/Berlin:20251025T150000
DTSTAMP:20260423T205325
CREATED:20250914T101311Z
LAST-MODIFIED:20250914T101311Z
UID:7239-1761386400-1761404400@tennis.svstadtwerkemuenchen.de
SUMMARY:Herbst Arbeitsdienst
DESCRIPTION:Bevor wir die Sommersaison endgültig beenden\, packen wir nochmal gemeinsam an: am 📅 Samstag\, den 25.10.\, ab 10 Uhr treffen wir uns zum traditionellen Arbeitsdienst auf der Anlage. Jede helfende Hand ist willkommen – für eine kleine Brotzeit und Getränke wird wie immer gesorgt sein. \n 
URL:https://tennis.svstadtwerkemuenchen.de/event/herbst-arbeitsdienst/
END:VEVENT
END:VCALENDAR