BEGIN:VCALENDAR
VERSION:2.0
PRODID:-//Tennisclub SV Stadtwerke München e.V. - ECPv6.2.9//NONSGML v1.0//EN
CALSCALE:GREGORIAN
METHOD:PUBLISH
X-WR-CALNAME:Tennisclub SV Stadtwerke München e.V.
X-ORIGINAL-URL:https://tennis.svstadtwerkemuenchen.de
X-WR-CALDESC:Veranstaltungen für Tennisclub SV Stadtwerke München e.V.
REFRESH-INTERVAL;VALUE=DURATION:PT1H
X-Robots-Tag:noindex
X-PUBLISHED-TTL:PT1H
BEGIN:VTIMEZONE
TZID:Europe/Berlin
BEGIN:DAYLIGHT
TZOFFSETFROM:+0100
TZOFFSETTO:+0200
TZNAME:CEST
DTSTART:20240331T010000
END:DAYLIGHT
BEGIN:STANDARD
TZOFFSETFROM:+0200
TZOFFSETTO:+0100
TZNAME:CET
DTSTART:20241027T010000
END:STANDARD
END:VTIMEZONE
BEGIN:VEVENT
DTSTART;TZID=Europe/Berlin:20240503T100000
DTEND;TZID=Europe/Berlin:20240503T150000
DTSTAMP:20260426T002207
CREATED:20240424T200935Z
LAST-MODIFIED:20240424T200935Z
UID:6194-1714730400-1714748400@tennis.svstadtwerkemuenchen.de
SUMMARY:TeG Mittlere Vils vs. Freizeit-Herren Doppel 70
DESCRIPTION:
URL:https://tennis.svstadtwerkemuenchen.de/event/teg-mittlere-vils-vs-freizeit-herren-doppel-70/
CATEGORIES:Auswärtsspiel
END:VEVENT
BEGIN:VEVENT
DTSTART;TZID=Europe/Berlin:20240503T150000
DTEND;TZID=Europe/Berlin:20240503T180000
DTSTAMP:20260426T002207
CREATED:20240424T200936Z
LAST-MODIFIED:20240424T200936Z
UID:6195-1714748400-1714759200@tennis.svstadtwerkemuenchen.de
SUMMARY:ESV München vs. Mädchen 15
DESCRIPTION:
URL:https://tennis.svstadtwerkemuenchen.de/event/esv-muenchen-vs-maedchen-15/
CATEGORIES:Auswärtsspiel
END:VEVENT
BEGIN:VEVENT
DTSTART;TZID=Europe/Berlin:20240504T140000
DTEND;TZID=Europe/Berlin:20240504T180000
DTSTAMP:20260426T002207
CREATED:20240424T200937Z
LAST-MODIFIED:20240424T200937Z
UID:6196-1714831200-1714845600@tennis.svstadtwerkemuenchen.de
SUMMARY:LL2 TC Zwiesel Herren 60
DESCRIPTION:
URL:https://tennis.svstadtwerkemuenchen.de/event/ll2-tc-zwiesel-herren-60/
CATEGORIES:Auswärtsspiel
END:VEVENT
BEGIN:VEVENT
DTSTART;TZID=Europe/Berlin:20240505T090000
DTEND;TZID=Europe/Berlin:20240505T140000
DTSTAMP:20260426T002207
CREATED:20240424T200937Z
LAST-MODIFIED:20240424T200937Z
UID:6197-1714899600-1714917600@tennis.svstadtwerkemuenchen.de
SUMMARY:Damen vs. TSV Milbertshofen
DESCRIPTION:
URL:https://tennis.svstadtwerkemuenchen.de/event/damen-vs-tsv-milbertshofen/
CATEGORIES:Heimspiel
END:VEVENT
BEGIN:VEVENT
DTSTART;TZID=Europe/Berlin:20240505T150000
DTEND;TZID=Europe/Berlin:20240505T180000
DTSTAMP:20260426T002207
CREATED:20240424T200937Z
LAST-MODIFIED:20240424T200937Z
UID:6198-1714921200-1714932000@tennis.svstadtwerkemuenchen.de
SUMMARY:Dunlop Midcourt U10 (4er) vs. STK Garching II
DESCRIPTION:
URL:https://tennis.svstadtwerkemuenchen.de/event/dunlop-midcourt-u10-4er-vs-stk-garching-ii/
CATEGORIES:Heimspiel
END:VEVENT
BEGIN:VEVENT
DTSTART;TZID=Europe/Berlin:20240506T100000
DTEND;TZID=Europe/Berlin:20240506T140000
DTSTAMP:20260426T002207
CREATED:20240424T200939Z
LAST-MODIFIED:20240424T200940Z
UID:6199-1714989600-1715004000@tennis.svstadtwerkemuenchen.de
SUMMARY:Herren 70 (4er) vs. TSV 1860 Rosenheim
DESCRIPTION:
URL:https://tennis.svstadtwerkemuenchen.de/event/herren-70-4er-vs-tsv-1860-rosenheim/
CATEGORIES:Heimspiel
END:VEVENT
BEGIN:VEVENT
DTSTART;TZID=Europe/Berlin:20240508T100000
DTEND;TZID=Europe/Berlin:20240508T140000
DTSTAMP:20260426T002207
CREATED:20240424T200940Z
LAST-MODIFIED:20240424T200940Z
UID:6200-1715162400-1715176800@tennis.svstadtwerkemuenchen.de
SUMMARY:Herren 65 vs. TC Mittenwald
DESCRIPTION:
URL:https://tennis.svstadtwerkemuenchen.de/event/herren-65-vs-tc-mittenwald/
CATEGORIES:Heimspiel
END:VEVENT
BEGIN:VEVENT
DTSTART;TZID=Europe/Berlin:20240510T100000
DTEND;TZID=Europe/Berlin:20240510T140000
DTSTAMP:20260426T002207
CREATED:20240424T200940Z
LAST-MODIFIED:20240424T200940Z
UID:6201-1715335200-1715349600@tennis.svstadtwerkemuenchen.de
SUMMARY:Freizeit-Herren Doppel 70 vs. STK Garching
DESCRIPTION:
URL:https://tennis.svstadtwerkemuenchen.de/event/freizeit-herren-doppel-70-vs-stk-garching/
CATEGORIES:Heimspiel
END:VEVENT
BEGIN:VEVENT
DTSTART;TZID=Europe/Berlin:20240510T150000
DTEND;TZID=Europe/Berlin:20240510T180000
DTSTAMP:20260426T002207
CREATED:20240424T200940Z
LAST-MODIFIED:20240424T200940Z
UID:6202-1715353200-1715364000@tennis.svstadtwerkemuenchen.de
SUMMARY:TC Unterföhring II vs. Mädchen 15 (4er)
DESCRIPTION:
URL:https://tennis.svstadtwerkemuenchen.de/event/tc-unterfoehring-ii-vs-maedchen-15-4er/
CATEGORIES:Auswärtsspiel
END:VEVENT
BEGIN:VEVENT
DTSTART;TZID=Europe/Berlin:20240511T130000
DTEND;TZID=Europe/Berlin:20240511T170000
DTSTAMP:20260426T002207
CREATED:20240424T200940Z
LAST-MODIFIED:20240424T200940Z
UID:6203-1715432400-1715446800@tennis.svstadtwerkemuenchen.de
SUMMARY:Damen 60 (4er) vs. SV DJK Heufeld
DESCRIPTION:
URL:https://tennis.svstadtwerkemuenchen.de/event/damen-60-4er-vs-sv-djk-heufeld/
CATEGORIES:Heimspiel
END:VEVENT
BEGIN:VEVENT
DTSTART;TZID=Europe/Berlin:20240511T130000
DTEND;TZID=Europe/Berlin:20240511T170000
DTSTAMP:20260426T002207
CREATED:20240424T200955Z
LAST-MODIFIED:20240424T200955Z
UID:6209-1715432400-1715446800@tennis.svstadtwerkemuenchen.de
SUMMARY:Herren 60 vs. TSV Eintracht Karlsfeld
DESCRIPTION:
URL:https://tennis.svstadtwerkemuenchen.de/event/herren-60-vs-tsv-eintracht-karlsfeld/
CATEGORIES:Heimspiel
END:VEVENT
BEGIN:VEVENT
DTSTART;TZID=Europe/Berlin:20240512T090000
DTEND;TZID=Europe/Berlin:20240512T140000
DTSTAMP:20260426T002207
CREATED:20240424T200955Z
LAST-MODIFIED:20240424T200955Z
UID:6210-1715504400-1715522400@tennis.svstadtwerkemuenchen.de
SUMMARY:Damen vs. VfB Pörnbach
DESCRIPTION:
URL:https://tennis.svstadtwerkemuenchen.de/event/damen-vs-vfb-poernbach/
CATEGORIES:Heimspiel
END:VEVENT
BEGIN:VEVENT
DTSTART;TZID=Europe/Berlin:20240512T100000
DTEND;TZID=Europe/Berlin:20240512T150000
DTSTAMP:20260426T002207
CREATED:20240424T200955Z
LAST-MODIFIED:20240424T200955Z
UID:6211-1715508000-1715526000@tennis.svstadtwerkemuenchen.de
SUMMARY:SpVgg Erdweg vs. Herren
DESCRIPTION:
URL:https://tennis.svstadtwerkemuenchen.de/event/spvgg-erdweg-vs-herren/
CATEGORIES:Auswärtsspiel
END:VEVENT
BEGIN:VEVENT
DTSTART;TZID=Europe/Berlin:20240512T150000
DTEND;TZID=Europe/Berlin:20240512T180000
DTSTAMP:20260426T002207
CREATED:20240424T200955Z
LAST-MODIFIED:20240424T200955Z
UID:6212-1715526000-1715536800@tennis.svstadtwerkemuenchen.de
SUMMARY:Dunlop Midcourt U10 (4er) vs. TSV Allershausen II
DESCRIPTION:
URL:https://tennis.svstadtwerkemuenchen.de/event/dunlop-midcourt-u10-4er-vs-tsv-allershausen-ii/
CATEGORIES:Heimspiel
END:VEVENT
BEGIN:VEVENT
DTSTART;TZID=Europe/Berlin:20240513T100000
DTEND;TZID=Europe/Berlin:20240513T140000
DTSTAMP:20260426T002207
CREATED:20240424T200956Z
LAST-MODIFIED:20240424T200956Z
UID:6213-1715594400-1715608800@tennis.svstadtwerkemuenchen.de
SUMMARY:MTTC Iphitos München vs. Herren 70 (4er)
DESCRIPTION:
URL:https://tennis.svstadtwerkemuenchen.de/event/mttc-iphitos-muenchen-vs-herren-70-4er/
CATEGORIES:Heimspiel
END:VEVENT
BEGIN:VEVENT
DTSTART;TZID=Europe/Berlin:20240515T100000
DTEND;TZID=Europe/Berlin:20240515T140000
DTSTAMP:20260426T002207
CREATED:20240424T201010Z
LAST-MODIFIED:20240424T201010Z
UID:6214-1715767200-1715781600@tennis.svstadtwerkemuenchen.de
SUMMARY:TP Isartal Baierbrunn vs. Herren 65 (4er)
DESCRIPTION:
URL:https://tennis.svstadtwerkemuenchen.de/event/tp-isartal-baierbrunn-vs-herren-65-4er/
CATEGORIES:Auswärtsspiel
END:VEVENT
BEGIN:VEVENT
DTSTART;TZID=Europe/Berlin:20240518T110000
DTEND;TZID=Europe/Berlin:20240518T170000
DTSTAMP:20260426T002207
CREATED:20240426T124427Z
LAST-MODIFIED:20240426T124427Z
UID:6274-1716030000-1716051600@tennis.svstadtwerkemuenchen.de
SUMMARY:Schleiferlturnier
DESCRIPTION:Bitte nutze dieses Formular für deine verbindliche Anmeldung \n 
URL:https://tennis.svstadtwerkemuenchen.de/event/schleiferlturnier/
LOCATION:Vereinshaus\, Neuherbergstr. 81\, München\, 80937\, Deutschland
CATEGORIES:Spiel & Spaß
END:VEVENT
BEGIN:VEVENT
DTSTART;TZID=Europe/Berlin:20240521T080000
DTEND;TZID=Europe/Berlin:20240524T170000
DTSTAMP:20260426T002207
CREATED:20240316T222031Z
LAST-MODIFIED:20240422T201206Z
UID:5874-1716278400-1716570000@tennis.svstadtwerkemuenchen.de
SUMMARY:Pfingst Tennis-Feriencamp
DESCRIPTION:Pfingst Tennis-Feriencamp für Kinder und Jugendliche. Bei Interesse bitte frühzeitig bei der Tennisschule Otto Bauer anmelden.
URL:https://tennis.svstadtwerkemuenchen.de/event/pfingst-tennis-feriencamp/
LOCATION:Vereinshaus\, Neuherbergstr. 81\, München\, 80937\, Deutschland
CATEGORIES:Jugendförderung
END:VEVENT
END:VCALENDAR