BEGIN:VCALENDAR
VERSION:2.0
PRODID:-//Tennisclub SV Stadtwerke München e.V. - ECPv6.2.9//NONSGML v1.0//EN
CALSCALE:GREGORIAN
METHOD:PUBLISH
X-WR-CALNAME:Tennisclub SV Stadtwerke München e.V.
X-ORIGINAL-URL:https://tennis.svstadtwerkemuenchen.de
X-WR-CALDESC:Veranstaltungen für Tennisclub SV Stadtwerke München e.V.
REFRESH-INTERVAL;VALUE=DURATION:PT1H
X-Robots-Tag:noindex
X-PUBLISHED-TTL:PT1H
BEGIN:VTIMEZONE
TZID:Europe/Berlin
BEGIN:DAYLIGHT
TZOFFSETFROM:+0100
TZOFFSETTO:+0200
TZNAME:CEST
DTSTART:20240331T010000
END:DAYLIGHT
BEGIN:STANDARD
TZOFFSETFROM:+0200
TZOFFSETTO:+0100
TZNAME:CET
DTSTART:20241027T010000
END:STANDARD
END:VTIMEZONE
BEGIN:VEVENT
DTSTART;VALUE=DATE:20241005
DTEND;VALUE=DATE:20241007
DTSTAMP:20260424T182522
CREATED:20240814T095653Z
LAST-MODIFIED:20240815T185223Z
UID:6466-1728086400-1728259199@tennis.svstadtwerkemuenchen.de
SUMMARY:Vereinsmeisterschaft | Kinder & Jugend
DESCRIPTION:Anmeldung über: jugendwart@tennis.svstadtwerkemuenchen.de \nErsatztermin bei Schlechtwetter: 12.-13.10.2024
URL:https://tennis.svstadtwerkemuenchen.de/event/vereinsmeisterschaft-kinder-jugend/
CATEGORIES:Jugendförderung,Turnier
END:VEVENT
END:VCALENDAR