BEGIN:VCALENDAR
VERSION:2.0
PRODID:-//Tennisclub SV Stadtwerke München e.V. - ECPv6.2.9//NONSGML v1.0//EN
CALSCALE:GREGORIAN
METHOD:PUBLISH
X-WR-CALNAME:Tennisclub SV Stadtwerke München e.V.
X-ORIGINAL-URL:https://tennis.svstadtwerkemuenchen.de
X-WR-CALDESC:Veranstaltungen für Tennisclub SV Stadtwerke München e.V.
REFRESH-INTERVAL;VALUE=DURATION:PT1H
X-Robots-Tag:noindex
X-PUBLISHED-TTL:PT1H
BEGIN:VTIMEZONE
TZID:Europe/Berlin
BEGIN:DAYLIGHT
TZOFFSETFROM:+0100
TZOFFSETTO:+0200
TZNAME:CEST
DTSTART:20250330T010000
END:DAYLIGHT
BEGIN:STANDARD
TZOFFSETFROM:+0200
TZOFFSETTO:+0100
TZNAME:CET
DTSTART:20251026T010000
END:STANDARD
END:VTIMEZONE
BEGIN:VEVENT
DTSTART;TZID=Europe/Berlin:20250920T100000
DTEND;TZID=Europe/Berlin:20250920T160000
DTSTAMP:20260423T161830
CREATED:20250225T124513Z
LAST-MODIFIED:20250914T091646Z
UID:6665-1758362400-1758384000@tennis.svstadtwerkemuenchen.de
SUMMARY:Schleiferlturnier & Wiesn-Anstich
DESCRIPTION:Anmeldung Schleiferlturnier unter: https://tennis.svstadtwerkemuenchen.de/schleiferl/ \n👉 Weißwurst-Lunch \n👉 Wiesn-Anstich (Fassbier auf Kosten des Vereins) \n👉 Stockerlfisch & Barbecue
URL:https://tennis.svstadtwerkemuenchen.de/event/schleiferlturnier-wiesn-edition/
LOCATION:Vereinshaus\, Neuherbergstr. 81\, München\, 80937\, Deutschland
END:VEVENT
BEGIN:VEVENT
DTSTART;VALUE=DATE:20250921
DTEND;VALUE=DATE:20250922
DTSTAMP:20260423T161830
CREATED:20250225T124550Z
LAST-MODIFIED:20250225T124550Z
UID:6667-1758412800-1758499199@tennis.svstadtwerkemuenchen.de
SUMMARY:LK-Turnier (Damen & Herren)
DESCRIPTION:
URL:https://tennis.svstadtwerkemuenchen.de/event/lk-turnier-damen-herren/
END:VEVENT
END:VCALENDAR